BEGIN:VCALENDAR
VERSION:2.0
PRODID:spatie/icalendar-generator
DESCRIPTION:Events from pmathai.or.th
X-WR-CALDESC:Events from pmathai.or.th
REFRESH-INTERVAL;VALUE=DURATION:PT1440M
X-PUBLISHED-TTL:PT1440M
BEGIN:VTIMEZONE
TZID:Etc/GMT-7
BEGIN:STANDARD
DTSTART:20231104T083000Z
TZOFFSETFROM:+0700
TZOFFSETTO:+0700
END:STANDARD
END:VTIMEZONE
BEGIN:VTIMEZONE
TZID:UTC
BEGIN:STANDARD
DTSTART:20250725T091249Z
TZOFFSETFROM:+0000
TZOFFSETTO:+0000
END:STANDARD
END:VTIMEZONE
BEGIN:VEVENT
UID:20-20
DTSTAMP:20260421T091249Z
SUMMARY:Untitled Event
LOCATION:
ORGANIZER;CN=pmathailand:MAILTO:ammy1s@hotmail.com
DTSTART;TZID=Etc/GMT-7:20240731T083000
DTEND;TZID=Etc/GMT-7:20240731T165100
X-ALT-DESC;FMTTYPE=TEXT/HTML:
CATEGORIES:General
URL;VALUE=URI:https://pmathai.or.th/mc-events/untitled-event-2/?mc_id=20
END:VEVENT
END:VCALENDAR