BEGIN:VCALENDAR
VERSION:2.0
PRODID:spatie/icalendar-generator
DESCRIPTION:Events from pmathai.or.th
X-WR-CALDESC:Events from pmathai.or.th
REFRESH-INTERVAL;VALUE=DURATION:PT1440M
X-PUBLISHED-TTL:PT1440M
BEGIN:VTIMEZONE
TZID:Etc/GMT-7
BEGIN:STANDARD
DTSTART:20230515T090000Z
TZOFFSETFROM:+0700
TZOFFSETTO:+0700
END:STANDARD
END:VTIMEZONE
BEGIN:VTIMEZONE
TZID:UTC
BEGIN:STANDARD
DTSTART:20250727T120035Z
TZOFFSETFROM:+0000
TZOFFSETTO:+0000
END:STANDARD
END:VTIMEZONE
BEGIN:VEVENT
UID:12-12
DTSTAMP:20260423T120035Z
SUMMARY:อบรม หลักสูตร \"การบริหาร
 ทรัพยากรอาคาร\"
LOCATION:
ORGANIZER;CN=pmathailand:MAILTO:ammy1s@hotmail.com
DTSTART;TZID=Etc/GMT-7:20240209T090000
DTEND;TZID=Etc/GMT-7:20240209T163000
X-ALT-DESC;FMTTYPE=TEXT/HTML:หลักสูตร “การบริ
 หารทรัพยากรอาคาร” วันที่ 9 
 กุมภาพันธ์ 2&amp;hellip\;
CATEGORIES:General
URL;VALUE=URI:https://pmathai.or.th/mc-events/%e0%b8%ad%e0%b8%9a%e0%b8%a3%e
 0%b8%a1-%e0%b8%ab%e0%b8%a5%e0%b8%b1%e0%b8%81%e0%b8%aa%e0%b8%b9%e0%b8%95%e0
 %b8%a3-%e0%b8%81%e0%b8%b2%e0%b8%a3%e0%b8%9a%e0%b8%a3%e0%b8%b4%e0%b8%ab%e0%
 b8%b2%e0%b8%a3-2/?mc_id=12
END:VEVENT
END:VCALENDAR