BEGIN:VCALENDAR
VERSION:2.0
PRODID:spatie/icalendar-generator
DESCRIPTION:Events from pmathai.or.th
X-WR-CALDESC:Events from pmathai.or.th
REFRESH-INTERVAL;VALUE=DURATION:PT1440M
X-PUBLISHED-TTL:PT1440M
BEGIN:VTIMEZONE
TZID:Etc/GMT-7
BEGIN:STANDARD
DTSTART:20230102T130000Z
TZOFFSETFROM:+0700
TZOFFSETTO:+0700
END:STANDARD
END:VTIMEZONE
BEGIN:VTIMEZONE
TZID:UTC
BEGIN:STANDARD
DTSTART:20250727T183816Z
TZOFFSETFROM:+0000
TZOFFSETTO:+0000
END:STANDARD
END:VTIMEZONE
BEGIN:VEVENT
UID:10-10
DTSTAMP:20260423T183816Z
SUMMARY:ประชุมใหญ่สามัญ ประจำปี
  2566
LOCATION:
ORGANIZER;CN=pmathailand:MAILTO:ammy1s@hotmail.com
DTSTART;TZID=Etc/GMT-7:20230929T130000
DTEND;TZID=Etc/GMT-7:20230929T160000
X-ALT-DESC;FMTTYPE=TEXT/HTML:เรียนเชิญเข้าร่
 วมประชุมใหญ่สามัญ ประจำปี 
 2566 สมาคมบริห&amp;hellip\;
CATEGORIES:General
URL;VALUE=URI:https://pmathai.or.th/mc-events/%e0%b8%9b%e0%b8%a3%e0%b8%b0%e
 0%b8%8a%e0%b8%b8%e0%b8%a1%e0%b9%83%e0%b8%ab%e0%b8%8d%e0%b9%88%e0%b8%aa%e0%
 b8%b2%e0%b8%a1%e0%b8%b1%e0%b8%8d-%e0%b8%9b%e0%b8%a3%e0%b8%b0%e0%b8%88%e0%b
 8%b3%e0%b8%9b%e0%b8%b5/?mc_id=10
END:VEVENT
END:VCALENDAR